BEGIN:VCALENDAR
VERSION:2.0
PRODID:-//FinXTech - ECPv6.11.2.1//NONSGML v1.0//EN
CALSCALE:GREGORIAN
METHOD:PUBLISH
X-ORIGINAL-URL:https://finxtech.com
X-WR-CALDESC:Events for FinXTech
REFRESH-INTERVAL;VALUE=DURATION:PT1H
X-Robots-Tag:noindex
X-PUBLISHED-TTL:PT1H
BEGIN:VTIMEZONE
TZID:America/Chicago
BEGIN:DAYLIGHT
TZOFFSETFROM:-0600
TZOFFSETTO:-0500
TZNAME:CDT
DTSTART:20250309T080000
END:DAYLIGHT
BEGIN:STANDARD
TZOFFSETFROM:-0500
TZOFFSETTO:-0600
TZNAME:CST
DTSTART:20251102T070000
END:STANDARD
END:VTIMEZONE
BEGIN:VEVENT
DTSTART;TZID=America/Chicago:20250805T130000
DTEND;TZID=America/Chicago:20250805T140000
DTSTAMP:20260421T054400
CREATED:20250708T193025Z
LAST-MODIFIED:20250923T222829Z
UID:3921-1754398800-1754402400@finxtech.com
SUMMARY:Strengthening Your C-Suite
DESCRIPTION:
URL:https://finxtech.com/event/strengthening-your-c-suite/
LOCATION:Webinar\, Virtual Event
CATEGORIES:Special Events
ATTACH;FMTTYPE=image/png:https://finxtech.com/wp-content/uploads/2025/01/bankdirector-webinar.png
ORGANIZER;CN="Bank Director":MAILTO:test@tester.com
END:VEVENT
BEGIN:VEVENT
DTSTART;TZID=America/Chicago:20250819T130000
DTEND;TZID=America/Chicago:20250819T140000
DTSTAMP:20260421T054400
CREATED:20250708T192754Z
LAST-MODIFIED:20250923T222458Z
UID:3919-1755608400-1755612000@finxtech.com
SUMMARY:What Disaster and Demographic Data Reveal About Concentration Risk in Banking
DESCRIPTION:
URL:https://finxtech.com/event/what-disaster-and-demographic-data-reveal-about-concentration-risk-in-banking/
LOCATION:Webinar\, Virtual Event
CATEGORIES:Special Events
ATTACH;FMTTYPE=image/png:https://finxtech.com/wp-content/uploads/2025/07/kbra-webinar.png
ORGANIZER;CN="Bank Director":MAILTO:test@tester.com
END:VEVENT
END:VCALENDAR